BEGIN:VCALENDAR
VERSION:2.0
PRODID:-//A&amp;A Townships  Volunteer Fire Dept. Inc. - ECPv6.15.20//NONSGML v1.0//EN
CALSCALE:GREGORIAN
METHOD:PUBLISH
X-ORIGINAL-URL:https://aandatownshipvolunteerfiredepartmentinc.com
X-WR-CALDESC:Events for A&amp;A Townships  Volunteer Fire Dept. Inc.
REFRESH-INTERVAL;VALUE=DURATION:PT1H
X-Robots-Tag:noindex
X-PUBLISHED-TTL:PT1H
BEGIN:VTIMEZONE
TZID:UTC
BEGIN:STANDARD
TZOFFSETFROM:+0000
TZOFFSETTO:+0000
TZNAME:UTC
DTSTART:20250101T000000
END:STANDARD
END:VTIMEZONE
BEGIN:VEVENT
DTSTART;TZID=UTC:20260919T100000
DTEND;TZID=UTC:20260919T160000
DTSTAMP:20260423T205024
CREATED:20240504T003204Z
LAST-MODIFIED:20251022T030049Z
UID:122-1789812000-1789833600@aandatownshipvolunteerfiredepartmentinc.com
SUMMARY:Eminence Harvest Festival
DESCRIPTION:Join us for the 2026 Harvest Festival.  Craft Vendors\, food trucks\, car show\, tractor show\, Kiddie Tractor Pulls and a parade!
URL:https://aandatownshipvolunteerfiredepartmentinc.com/event/eminence-harvest-festival/
LOCATION:Eminence Community Schools\, 6764 N State Road 42\, Eminence\, IN\, 46125
END:VEVENT
END:VCALENDAR