BEGIN:VCALENDAR
VERSION:2.0
PRODID:-//A&amp;A Townships  Volunteer Fire Dept. Inc. - ECPv6.15.20//NONSGML v1.0//EN
CALSCALE:GREGORIAN
METHOD:PUBLISH
X-WR-CALNAME:A&amp;A Townships  Volunteer Fire Dept. Inc.
X-ORIGINAL-URL:https://aandatownshipvolunteerfiredepartmentinc.com
X-WR-CALDESC:Events for A&amp;A Townships  Volunteer Fire Dept. Inc.
REFRESH-INTERVAL;VALUE=DURATION:PT1H
X-Robots-Tag:noindex
X-PUBLISHED-TTL:PT1H
BEGIN:VTIMEZONE
TZID:America/Indiana/Indianapolis
BEGIN:DAYLIGHT
TZOFFSETFROM:-0500
TZOFFSETTO:-0400
TZNAME:EDT
DTSTART:20230312T070000
END:DAYLIGHT
BEGIN:STANDARD
TZOFFSETFROM:-0400
TZOFFSETTO:-0500
TZNAME:EST
DTSTART:20231105T060000
END:STANDARD
BEGIN:DAYLIGHT
TZOFFSETFROM:-0500
TZOFFSETTO:-0400
TZNAME:EDT
DTSTART:20240310T070000
END:DAYLIGHT
BEGIN:STANDARD
TZOFFSETFROM:-0400
TZOFFSETTO:-0500
TZNAME:EST
DTSTART:20241103T060000
END:STANDARD
BEGIN:DAYLIGHT
TZOFFSETFROM:-0500
TZOFFSETTO:-0400
TZNAME:EDT
DTSTART:20250309T070000
END:DAYLIGHT
BEGIN:STANDARD
TZOFFSETFROM:-0400
TZOFFSETTO:-0500
TZNAME:EST
DTSTART:20251102T060000
END:STANDARD
END:VTIMEZONE
BEGIN:VEVENT
DTSTART;TZID=America/Indiana/Indianapolis:20241208T130000
DTEND;TZID=America/Indiana/Indianapolis:20241208T170000
DTSTAMP:20260423T230826
CREATED:20241014T230142Z
LAST-MODIFIED:20241014T230142Z
UID:458-1733662800-1733677200@aandatownshipvolunteerfiredepartmentinc.com
SUMMARY:Turkey Shoot
DESCRIPTION:There will be the options of 12 gauge and 16 gauge shells. Shotguns must be stock and chokes no tighter than “full choke”.
URL:https://aandatownshipvolunteerfiredepartmentinc.com/event/turkey-shoot-2/
LOCATION:Fire Barn\, 11612 Walters Rd\, Eminence\, IN\, 46125\, United States
END:VEVENT
END:VCALENDAR