BEGIN:VCALENDAR
VERSION:2.0
PRODID:-//A&amp;A Townships  Volunteer Fire Dept. Inc. - ECPv6.15.20//NONSGML v1.0//EN
CALSCALE:GREGORIAN
METHOD:PUBLISH
X-WR-CALNAME:A&amp;A Townships  Volunteer Fire Dept. Inc.
X-ORIGINAL-URL:https://aandatownshipvolunteerfiredepartmentinc.com
X-WR-CALDESC:Events for A&amp;A Townships  Volunteer Fire Dept. Inc.
REFRESH-INTERVAL;VALUE=DURATION:PT1H
X-Robots-Tag:noindex
X-PUBLISHED-TTL:PT1H
BEGIN:VTIMEZONE
TZID:America/Indiana/Indianapolis
BEGIN:DAYLIGHT
TZOFFSETFROM:-0500
TZOFFSETTO:-0400
TZNAME:EDT
DTSTART:20250309T070000
END:DAYLIGHT
BEGIN:STANDARD
TZOFFSETFROM:-0400
TZOFFSETTO:-0500
TZNAME:EST
DTSTART:20251102T060000
END:STANDARD
BEGIN:DAYLIGHT
TZOFFSETFROM:-0500
TZOFFSETTO:-0400
TZNAME:EDT
DTSTART:20260308T070000
END:DAYLIGHT
BEGIN:STANDARD
TZOFFSETFROM:-0400
TZOFFSETTO:-0500
TZNAME:EST
DTSTART:20261101T060000
END:STANDARD
BEGIN:DAYLIGHT
TZOFFSETFROM:-0500
TZOFFSETTO:-0400
TZNAME:EDT
DTSTART:20270314T070000
END:DAYLIGHT
BEGIN:STANDARD
TZOFFSETFROM:-0400
TZOFFSETTO:-0500
TZNAME:EST
DTSTART:20271107T060000
END:STANDARD
END:VTIMEZONE
BEGIN:VEVENT
DTSTART;TZID=America/Indiana/Indianapolis:20260523T070000
DTEND;TZID=America/Indiana/Indianapolis:20260523T120000
DTSTAMP:20260423T135859
CREATED:20241128T033853Z
LAST-MODIFIED:20260305T065848Z
UID:670-1779519600-1779537600@aandatownshipvolunteerfiredepartmentinc.com
SUMMARY:3rd Annual Eminence Music Boosters Car Show
DESCRIPTION:Come join the Eminence Music Boosters for beautiful cars\, food\, and fun!  $10 per vehicle to enter\, spectators free!  All proceeds benefit the Eminence Community Schools Music Program.
URL:https://aandatownshipvolunteerfiredepartmentinc.com/event/2nd-annual-eminence-music-boosters-car-show/
LOCATION:Eminence Community Schools\, 6764 N State Road 42\, Eminence\, IN\, 46125
END:VEVENT
END:VCALENDAR