BEGIN:VCALENDAR
VERSION:2.0
PRODID:-//A&amp;A Townships  Volunteer Fire Dept. Inc. - ECPv6.15.20//NONSGML v1.0//EN
CALSCALE:GREGORIAN
METHOD:PUBLISH
X-ORIGINAL-URL:https://aandatownshipvolunteerfiredepartmentinc.com
X-WR-CALDESC:Events for A&amp;A Townships  Volunteer Fire Dept. Inc.
REFRESH-INTERVAL;VALUE=DURATION:PT1H
X-Robots-Tag:noindex
X-PUBLISHED-TTL:PT1H
BEGIN:VTIMEZONE
TZID:America/Indiana/Indianapolis
BEGIN:DAYLIGHT
TZOFFSETFROM:-0500
TZOFFSETTO:-0400
TZNAME:EDT
DTSTART:20250309T070000
END:DAYLIGHT
BEGIN:STANDARD
TZOFFSETFROM:-0400
TZOFFSETTO:-0500
TZNAME:EST
DTSTART:20251102T060000
END:STANDARD
BEGIN:DAYLIGHT
TZOFFSETFROM:-0500
TZOFFSETTO:-0400
TZNAME:EDT
DTSTART:20260308T070000
END:DAYLIGHT
BEGIN:STANDARD
TZOFFSETFROM:-0400
TZOFFSETTO:-0500
TZNAME:EST
DTSTART:20261101T060000
END:STANDARD
BEGIN:DAYLIGHT
TZOFFSETFROM:-0500
TZOFFSETTO:-0400
TZNAME:EDT
DTSTART:20270314T070000
END:DAYLIGHT
BEGIN:STANDARD
TZOFFSETFROM:-0400
TZOFFSETTO:-0500
TZNAME:EST
DTSTART:20271107T060000
END:STANDARD
END:VTIMEZONE
BEGIN:VEVENT
DTSTART;TZID=America/Indiana/Indianapolis:20260404T110000
DTEND;TZID=America/Indiana/Indianapolis:20260404T120000
DTSTAMP:20260423T135055
CREATED:20250321T022651Z
LAST-MODIFIED:20260304T052205Z
UID:891-1775300400-1775304000@aandatownshipvolunteerfiredepartmentinc.com
SUMMARY:Eminence Harvest Festival Easter Egg Hunt
DESCRIPTION:Join the Eminence Harvest Festival Committee for some Easter Fun! Kids 0-12
URL:https://aandatownshipvolunteerfiredepartmentinc.com/event/eminence-harvest-festival-easter-egg-hunt/
LOCATION:Fire Barn\, 11612 Walters Rd\, Eminence\, IN\, 46125\, United States
END:VEVENT
END:VCALENDAR